BEGIN:VCALENDAR
PRODID:-//Cornell Cooperative Extension of Ulster County//NONSGML Cornell Cooperative Extension of Ulster County Events//EN
X-ORIGINAL-URL:
VERSION:2.0
CALSCALE:GREGORIAN
METHOD:PUBLISH
BEGIN:VEVENT
METHOD: PUBLISH
X-MS-OLK-FORCEINSPECTOROPEN:TRUE
DTSTART:20260625T090900
DTEND:20260625T150300
SUMMARY:Plastic Pollution &amp; You Educator Workshop
DTSTAMP:20110121T170000
LAST-MODIFIED:20260422T101020
CREATED:20260422T090932
SEQUENCE:0
TRANSP:TRANSPARENT
UID:32971
LOCATION:
URL:http://ulster.cce.cornell.edu/events/2026/06/25/plastic-pollution-you-educator-workshop
DESCRIPTION:Join New York Sea Grant for an educator workshop on Plastic Pollution &amp; You, a dynamic curriculum developed by New York Sea Grant that is easily adaptable to a wide range of grade levels. Participants will engage in several lessons from the curriculum, hear from a guest speaker, and have the opportunity to sample the Esopus Creek for microplastics with classroom-friendly materials. This workshop is open to all educators; CTLE credits will be available.
CLASS:PUBLIC
CATEGORIES:
STATUS:CONFIRMED
END:VEVENT
END:VCALENDAR
n/a