BEGIN:VCALENDAR
PRODID:-//Cornell Cooperative Extension of Ulster County//NONSGML Cornell Cooperative Extension of Ulster County Events//EN
X-ORIGINAL-URL:
VERSION:2.0
CALSCALE:GREGORIAN
METHOD:PUBLISH
BEGIN:VEVENT
METHOD: PUBLISH
X-MS-OLK-FORCEINSPECTOROPEN:TRUE
DTSTART:20260523T111100
DTEND:20260523T130100
SUMMARY:Wild Edible Walk
DTSTAMP:20110121T170000
LAST-MODIFIED:20260423T130144
CREATED:20260423T121245
SEQUENCE:0
TRANSP:TRANSPARENT
UID:32982
LOCATION:
URL:http://ulster.cce.cornell.edu/events/2026/05/23/wild-edible-walk
DESCRIPTION:Youth ages 12 and up and their families will learn to accurately identify wild edible plant species with 4H Wild Edible Trained Naturalist &amp; Educator, Lisa Morganstern-Perl. We will have the opportunity to explore several local foraging areas and learn sustainable harvesting methods. Preparation of Wild Edible tea and snacks will round out the event.
CLASS:PUBLIC
CATEGORIES:
STATUS:CONFIRMED
END:VEVENT
END:VCALENDAR
n/a