BEGIN:VCALENDAR
PRODID:-//Cornell Cooperative Extension of Ulster County//NONSGML Cornell Cooperative Extension of Ulster County Events//EN
X-ORIGINAL-URL:
VERSION:2.0
CALSCALE:GREGORIAN
METHOD:PUBLISH
BEGIN:VEVENT
METHOD: PUBLISH
X-MS-OLK-FORCEINSPECTOROPEN:TRUE
DTSTART:20150326T090900
DTEND:20150326T170500
SUMMARY:CleanSweep - Ag/Commercial pesticide clean up - clean sweep NY
DTSTAMP:20110121T170000
LAST-MODIFIED:20150225T150304
CREATED:20150225T140238
SEQUENCE:0
TRANSP:TRANSPARENT
UID:1748
LOCATION:
URL:http://ulster.cce.cornell.edu/events/2015/03/26/cleansweep-ag-commercial-pesticide-clean-up-clean-sweep-ny
DESCRIPTION:Deadline to Register for the Region 3 CleanSweep Program is March 26th.&amp;nbsp;The Spring 2015 CleanSweepNY collection event will take place during the week of April 6, 2015 and will target the counties located in the lower Hudson River Valley in NYSDEC&#39;s Region 3. The collections will take place on consecutive days in Kingston, Fishkill and Middletown and specific details will become available to pre-registered participants when scheduling is completed.Pre-registration is required and registration packets can be requested by telephone or e-mail at the following:     Telephone:   877-793-3769       E-Mail:   info@cleansweepny.org       Website:   http://www.cleansweepny.org/     CleanSweepNY services are provided to farmers and owners of former farms, all categories of NYS certified pesticide applicators, cemeteries, golf courses, marinas, and other entities possessing unwanted or unusable pesticides and other waste chemicals. Each participant is responsible for transporting their materials to the collection site.CleanSweepNY Services are Not Available to Homeowners.
CLASS:PUBLIC
CATEGORIES:
STATUS:CONFIRMED
END:VEVENT
END:VCALENDAR
n/a